BEGIN:VCALENDAR
VERSION:2.0
PRODID:-//Proeliator LLC - ECPv6.15.20//NONSGML v1.0//EN
CALSCALE:GREGORIAN
METHOD:PUBLISH
X-ORIGINAL-URL:https://proeliatorllc.com
X-WR-CALDESC:Events for Proeliator LLC
REFRESH-INTERVAL;VALUE=DURATION:PT1H
X-Robots-Tag:noindex
X-PUBLISHED-TTL:PT1H
BEGIN:VTIMEZONE
TZID:America/Chicago
BEGIN:DAYLIGHT
TZOFFSETFROM:-0600
TZOFFSETTO:-0500
TZNAME:CDT
DTSTART:20220313T080000
END:DAYLIGHT
BEGIN:STANDARD
TZOFFSETFROM:-0500
TZOFFSETTO:-0600
TZNAME:CST
DTSTART:20221106T070000
END:STANDARD
BEGIN:DAYLIGHT
TZOFFSETFROM:-0600
TZOFFSETTO:-0500
TZNAME:CDT
DTSTART:20230312T080000
END:DAYLIGHT
BEGIN:STANDARD
TZOFFSETFROM:-0500
TZOFFSETTO:-0600
TZNAME:CST
DTSTART:20231105T070000
END:STANDARD
BEGIN:DAYLIGHT
TZOFFSETFROM:-0600
TZOFFSETTO:-0500
TZNAME:CDT
DTSTART:20240310T080000
END:DAYLIGHT
BEGIN:STANDARD
TZOFFSETFROM:-0500
TZOFFSETTO:-0600
TZNAME:CST
DTSTART:20241103T070000
END:STANDARD
END:VTIMEZONE
BEGIN:VEVENT
DTSTART;TZID=America/Chicago:20230821T180000
DTEND;TZID=America/Chicago:20230821T210000
DTSTAMP:20260425T055620
CREATED:20230305T203308Z
LAST-MODIFIED:20230305T215506Z
UID:7463-1692640800-1692651600@proeliatorllc.com
SUMMARY:Women's Handgun & Self Defense 1 - Basic
DESCRIPTION:
URL:https://proeliatorllc.com/event/womens-handgun-self-defense-1-basic-6
LOCATION:Red Brush Rifle Range\, 3299 West Eble Road\, Newburgh\, IN\, 47630\, United States
CATEGORIES:Training
ATTACH;FMTTYPE=image/jpeg:https://proeliatorllc.com/wp-content/uploads/2022/10/WHSDF_Proeliator_Basic_SOURCE.jpg
END:VEVENT
BEGIN:VEVENT
DTSTART;TZID=America/Chicago:20230820T130000
DTEND;TZID=America/Chicago:20230820T180000
DTSTAMP:20260425T055620
CREATED:20230305T203307Z
LAST-MODIFIED:20230305T215505Z
UID:7462-1692536400-1692554400@proeliatorllc.com
SUMMARY:Countering the Mass Shooter Threat
DESCRIPTION:
URL:https://proeliatorllc.com/event/countering-the-mass-shooter-threat-6
LOCATION:Red Brush Rifle Range\, 3299 West Eble Road\, Newburgh\, IN\, 47630\, United States
CATEGORIES:Training
ATTACH;FMTTYPE=image/jpeg:https://proeliatorllc.com/wp-content/uploads/2022/06/USCCA_CTMST_Featured.jpg
END:VEVENT
BEGIN:VEVENT
DTSTART;TZID=America/Chicago:20230808T170000
DTEND;TZID=America/Chicago:20230808T210000
DTSTAMP:20260425T055620
CREATED:20230305T203307Z
LAST-MODIFIED:20230305T215505Z
UID:7461-1691514000-1691528400@proeliatorllc.com
SUMMARY:Emergency First Aid Fundamentals
DESCRIPTION:
URL:https://proeliatorllc.com/event/emergency-first-aid-fundamentals-6
LOCATION:Red Brush Rifle Range\, 3299 West Eble Road\, Newburgh\, IN\, 47630\, United States
CATEGORIES:Training
ATTACH;FMTTYPE=image/jpeg:https://proeliatorllc.com/wp-content/uploads/2022/10/EFAF_Proeliator_SOURCE_1824x1026.jpg
END:VEVENT
BEGIN:VEVENT
DTSTART;TZID=America/Chicago:20230805T090000
DTEND;TZID=America/Chicago:20230805T180000
DTSTAMP:20260425T055620
CREATED:20230305T203307Z
LAST-MODIFIED:20230305T215504Z
UID:7460-1691226000-1691258400@proeliatorllc.com
SUMMARY:Concealed Carry & Home Defense Fundamentals
DESCRIPTION:
URL:https://proeliatorllc.com/event/concealed-carry-home-defense-fundamentals-7
LOCATION:Red Brush Rifle Range\, 3299 West Eble Road\, Newburgh\, IN\, 47630\, United States
CATEGORIES:Training
ATTACH;FMTTYPE=image/jpeg:https://proeliatorllc.com/wp-content/uploads/2022/06/USCCA_CCHDF_Featured.jpg
END:VEVENT
BEGIN:VEVENT
DTSTART;TZID=America/Chicago:20230728T180000
DTEND;TZID=America/Chicago:20230728T210000
DTSTAMP:20260425T055620
CREATED:20230305T203307Z
LAST-MODIFIED:20230305T215503Z
UID:7459-1690567200-1690578000@proeliatorllc.com
SUMMARY:Women's Handgun & Self Defense 3 - Defensive Pistol
DESCRIPTION:
URL:https://proeliatorllc.com/event/womens-handgun-self-defense-3-defensive-pistol-5
LOCATION:Red Brush Rifle Range\, 3299 West Eble Road\, Newburgh\, IN\, 47630\, United States
CATEGORIES:Training
ATTACH;FMTTYPE=image/jpeg:https://proeliatorllc.com/wp-content/uploads/2022/10/WHSDF_Proeliator_DefensiveShooting_SOURCE.jpg
END:VEVENT
BEGIN:VEVENT
DTSTART;TZID=America/Chicago:20230726T180000
DTEND;TZID=America/Chicago:20230726T210000
DTSTAMP:20260425T055620
CREATED:20230305T203253Z
LAST-MODIFIED:20230305T215306Z
UID:7458-1690394400-1690405200@proeliatorllc.com
SUMMARY:Women's Handgun & Self Defense 2 - Intermediate
DESCRIPTION:
URL:https://proeliatorllc.com/event/womens-handgun-self-defense-2-intermediate-5
LOCATION:Red Brush Rifle Range\, 3299 West Eble Road\, Newburgh\, IN\, 47630\, United States
CATEGORIES:Training
ATTACH;FMTTYPE=image/jpeg:https://proeliatorllc.com/wp-content/uploads/2022/10/WHSDF_Proeliator_Intermediate_SOURCE.jpg
END:VEVENT
BEGIN:VEVENT
DTSTART;TZID=America/Chicago:20230724T180000
DTEND;TZID=America/Chicago:20230724T210000
DTSTAMP:20260425T055620
CREATED:20230305T203253Z
LAST-MODIFIED:20230305T215305Z
UID:7457-1690221600-1690232400@proeliatorllc.com
SUMMARY:Women's Handgun & Self Defense 1 - Basic
DESCRIPTION:
URL:https://proeliatorllc.com/event/womens-handgun-self-defense-1-basic-5
LOCATION:Red Brush Rifle Range\, 3299 West Eble Road\, Newburgh\, IN\, 47630\, United States
CATEGORIES:Training
ATTACH;FMTTYPE=image/jpeg:https://proeliatorllc.com/wp-content/uploads/2022/10/WHSDF_Proeliator_Basic_SOURCE.jpg
END:VEVENT
BEGIN:VEVENT
DTSTART;TZID=America/Chicago:20230723T130000
DTEND;TZID=America/Chicago:20230723T180000
DTSTAMP:20260425T055620
CREATED:20230305T203253Z
LAST-MODIFIED:20230305T215304Z
UID:7456-1690117200-1690135200@proeliatorllc.com
SUMMARY:Countering the Mass Shooter Threat
DESCRIPTION:
URL:https://proeliatorllc.com/event/countering-the-mass-shooter-threat-5
LOCATION:Red Brush Rifle Range\, 3299 West Eble Road\, Newburgh\, IN\, 47630\, United States
CATEGORIES:Training
ATTACH;FMTTYPE=image/jpeg:https://proeliatorllc.com/wp-content/uploads/2022/06/USCCA_CTMST_Featured.jpg
END:VEVENT
BEGIN:VEVENT
DTSTART;TZID=America/Chicago:20230715T090000
DTEND;TZID=America/Chicago:20230715T210000
DTSTAMP:20260425T055620
CREATED:20230305T203252Z
LAST-MODIFIED:20230305T215304Z
UID:7455-1689411600-1689454800@proeliatorllc.com
SUMMARY:Basics of Shotgun Shooting
DESCRIPTION:
URL:https://proeliatorllc.com/event/basics-of-shotgun-shooting-2
LOCATION:Red Brush Rifle Range\, 3299 West Eble Road\, Newburgh\, IN\, 47630\, United States
CATEGORIES:Training
ATTACH;FMTTYPE=image/png:https://proeliatorllc.com/wp-content/uploads/2022/06/NRA_Basic_Shotgun_Featured.png
END:VEVENT
BEGIN:VEVENT
DTSTART;TZID=America/Chicago:20230711T170000
DTEND;TZID=America/Chicago:20230711T210000
DTSTAMP:20260425T055620
CREATED:20230305T203252Z
LAST-MODIFIED:20230305T215303Z
UID:7454-1689094800-1689109200@proeliatorllc.com
SUMMARY:Emergency First Aid Fundamentals
DESCRIPTION:
URL:https://proeliatorllc.com/event/emergency-first-aid-fundamentals-5
LOCATION:Red Brush Rifle Range\, 3299 West Eble Road\, Newburgh\, IN\, 47630\, United States
CATEGORIES:Training
ATTACH;FMTTYPE=image/jpeg:https://proeliatorllc.com/wp-content/uploads/2022/10/EFAF_Proeliator_SOURCE_1824x1026.jpg
END:VEVENT
BEGIN:VEVENT
DTSTART;TZID=America/Chicago:20230701T090000
DTEND;TZID=America/Chicago:20230701T180000
DTSTAMP:20260425T055620
CREATED:20230305T203200Z
LAST-MODIFIED:20230305T215106Z
UID:7453-1688202000-1688234400@proeliatorllc.com
SUMMARY:Concealed Carry & Home Defense Fundamentals
DESCRIPTION:
URL:https://proeliatorllc.com/event/concealed-carry-home-defense-fundamentals-6
LOCATION:Red Brush Rifle Range\, 3299 West Eble Road\, Newburgh\, IN\, 47630\, United States
CATEGORIES:Training
ATTACH;FMTTYPE=image/jpeg:https://proeliatorllc.com/wp-content/uploads/2022/06/USCCA_CCHDF_Featured.jpg
END:VEVENT
BEGIN:VEVENT
DTSTART;TZID=America/Chicago:20230625T130000
DTEND;TZID=America/Chicago:20230625T180000
DTSTAMP:20260425T055620
CREATED:20230305T203159Z
LAST-MODIFIED:20230305T215105Z
UID:7452-1687698000-1687716000@proeliatorllc.com
SUMMARY:Countering the Mass Shooter Threat
DESCRIPTION:
URL:https://proeliatorllc.com/event/countering-the-mass-shooter-threat-4
LOCATION:Red Brush Rifle Range\, 3299 West Eble Road\, Newburgh\, IN\, 47630\, United States
CATEGORIES:Training
ATTACH;FMTTYPE=image/jpeg:https://proeliatorllc.com/wp-content/uploads/2022/06/USCCA_CTMST_Featured.jpg
END:VEVENT
BEGIN:VEVENT
DTSTART;TZID=America/Chicago:20230624T090000
DTEND;TZID=America/Chicago:20230624T180000
DTSTAMP:20260425T055620
CREATED:20230305T203159Z
LAST-MODIFIED:20230305T215105Z
UID:7451-1687597200-1687629600@proeliatorllc.com
SUMMARY:Basics of Rifle Shooting
DESCRIPTION:
URL:https://proeliatorllc.com/event/basics-of-rifle-shooting-2
LOCATION:Proeliator LLC\, 5233 Sleepy Hollow Rd\, Newburgh\, IN\, 47630-2055\, United States
CATEGORIES:Training
ATTACH;FMTTYPE=image/jpeg:https://proeliatorllc.com/wp-content/uploads/2022/06/NRA_Basic_Rifle_Featured.jpg
END:VEVENT
BEGIN:VEVENT
DTSTART;TZID=America/Chicago:20230616T180000
DTEND;TZID=America/Chicago:20230616T210000
DTSTAMP:20260425T055620
CREATED:20230305T203159Z
LAST-MODIFIED:20230305T215104Z
UID:7450-1686938400-1686949200@proeliatorllc.com
SUMMARY:Women's Handgun & Self Defense 3 - Defensive Pistol
DESCRIPTION:
URL:https://proeliatorllc.com/event/womens-handgun-self-defense-3-defensive-pistol-4
LOCATION:Red Brush Rifle Range\, 3299 West Eble Road\, Newburgh\, IN\, 47630\, United States
CATEGORIES:Training
ATTACH;FMTTYPE=image/jpeg:https://proeliatorllc.com/wp-content/uploads/2022/10/WHSDF_Proeliator_DefensiveShooting_SOURCE.jpg
END:VEVENT
BEGIN:VEVENT
DTSTART;TZID=America/Chicago:20230614T180000
DTEND;TZID=America/Chicago:20230614T210000
DTSTAMP:20260425T055620
CREATED:20230305T203159Z
LAST-MODIFIED:20230305T215103Z
UID:7449-1686765600-1686776400@proeliatorllc.com
SUMMARY:Women's Handgun & Self Defense 2 - Intermediate
DESCRIPTION:
URL:https://proeliatorllc.com/event/womens-handgun-self-defense-2-intermediate-4
LOCATION:Red Brush Rifle Range\, 3299 West Eble Road\, Newburgh\, IN\, 47630\, United States
CATEGORIES:Training
ATTACH;FMTTYPE=image/jpeg:https://proeliatorllc.com/wp-content/uploads/2022/10/WHSDF_Proeliator_Intermediate_SOURCE.jpg
END:VEVENT
BEGIN:VEVENT
DTSTART;TZID=America/Chicago:20230612T180000
DTEND;TZID=America/Chicago:20230612T210000
DTSTAMP:20260425T055620
CREATED:20230305T203143Z
LAST-MODIFIED:20230305T215006Z
UID:7448-1686592800-1686603600@proeliatorllc.com
SUMMARY:Women's Handgun & Self Defense 1 - Basic
DESCRIPTION:
URL:https://proeliatorllc.com/event/womens-handgun-self-defense-1-basic-4
LOCATION:Red Brush Rifle Range\, 3299 West Eble Road\, Newburgh\, IN\, 47630\, United States
CATEGORIES:Training
ATTACH;FMTTYPE=image/jpeg:https://proeliatorllc.com/wp-content/uploads/2022/10/WHSDF_Proeliator_Basic_SOURCE.jpg
END:VEVENT
BEGIN:VEVENT
DTSTART;TZID=America/Chicago:20230603T090000
DTEND;TZID=America/Chicago:20230603T180000
DTSTAMP:20260425T055620
CREATED:20230305T203143Z
LAST-MODIFIED:20230305T215005Z
UID:7447-1685782800-1685815200@proeliatorllc.com
SUMMARY:Concealed Carry & Home Defense Fundamentals
DESCRIPTION:
URL:https://proeliatorllc.com/event/concealed-carry-home-defense-fundamentals-5
LOCATION:Red Brush Rifle Range\, 3299 West Eble Road\, Newburgh\, IN\, 47630\, United States
CATEGORIES:Training
ATTACH;FMTTYPE=image/jpeg:https://proeliatorllc.com/wp-content/uploads/2022/06/USCCA_CCHDF_Featured.jpg
END:VEVENT
BEGIN:VEVENT
DTSTART;TZID=America/Chicago:20230601T170000
DTEND;TZID=America/Chicago:20230601T210000
DTSTAMP:20260425T055620
CREATED:20230305T203143Z
LAST-MODIFIED:20230305T215004Z
UID:7446-1685638800-1685653200@proeliatorllc.com
SUMMARY:Emergency First Aid Fundamentals
DESCRIPTION:
URL:https://proeliatorllc.com/event/emergency-first-aid-fundamentals-4
LOCATION:Red Brush Rifle Range\, 3299 West Eble Road\, Newburgh\, IN\, 47630\, United States
CATEGORIES:Training
ATTACH;FMTTYPE=image/jpeg:https://proeliatorllc.com/wp-content/uploads/2022/10/EFAF_Proeliator_SOURCE_1824x1026.jpg
END:VEVENT
BEGIN:VEVENT
DTSTART;TZID=America/Chicago:20230528T130000
DTEND;TZID=America/Chicago:20230528T180000
DTSTAMP:20260425T055620
CREATED:20230305T203142Z
LAST-MODIFIED:20230305T215004Z
UID:7445-1685278800-1685296800@proeliatorllc.com
SUMMARY:Countering the Mass Shooter Threat
DESCRIPTION:
URL:https://proeliatorllc.com/event/countering-the-mass-shooter-threat-3
LOCATION:Red Brush Rifle Range\, 3299 West Eble Road\, Newburgh\, IN\, 47630\, United States
CATEGORIES:Training
ATTACH;FMTTYPE=image/jpeg:https://proeliatorllc.com/wp-content/uploads/2022/06/USCCA_CTMST_Featured.jpg
END:VEVENT
BEGIN:VEVENT
DTSTART;TZID=America/Chicago:20230527T090000
DTEND;TZID=America/Chicago:20230527T180000
DTSTAMP:20260425T055620
CREATED:20230305T203142Z
LAST-MODIFIED:20230305T215003Z
UID:7444-1685178000-1685210400@proeliatorllc.com
SUMMARY:Basics of Pistol Shooting
DESCRIPTION:
URL:https://proeliatorllc.com/event/basics-of-pistol-shooting
LOCATION:Red Brush Rifle Range\, 3299 West Eble Road\, Newburgh\, IN\, 47630\, United States
CATEGORIES:Training
ATTACH;FMTTYPE=image/jpeg:https://proeliatorllc.com/wp-content/uploads/2022/06/NRA_Basic_Pistol_Featured.jpg
END:VEVENT
BEGIN:VEVENT
DTSTART;TZID=America/Chicago:20230519T180000
DTEND;TZID=America/Chicago:20230519T210000
DTSTAMP:20260425T055620
CREATED:20230305T203037Z
LAST-MODIFIED:20230305T214824Z
UID:7443-1684519200-1684530000@proeliatorllc.com
SUMMARY:Women's Handgun & Self Defense 3 - Defensive Pistol
DESCRIPTION:
URL:https://proeliatorllc.com/event/womens-handgun-self-defense-3-defensive-pistol-3
LOCATION:Red Brush Rifle Range\, 3299 West Eble Road\, Newburgh\, IN\, 47630\, United States
CATEGORIES:Training
ATTACH;FMTTYPE=image/jpeg:https://proeliatorllc.com/wp-content/uploads/2022/10/WHSDF_Proeliator_DefensiveShooting_SOURCE.jpg
END:VEVENT
BEGIN:VEVENT
DTSTART;TZID=America/Chicago:20230517T180000
DTEND;TZID=America/Chicago:20230517T210000
DTSTAMP:20260425T055620
CREATED:20230305T203037Z
LAST-MODIFIED:20230305T214824Z
UID:7442-1684346400-1684357200@proeliatorllc.com
SUMMARY:Women's Handgun & Self Defense 2 - Intermediate
DESCRIPTION:
URL:https://proeliatorllc.com/event/womens-handgun-self-defense-2-intermediate-3
LOCATION:Red Brush Rifle Range\, 3299 West Eble Road\, Newburgh\, IN\, 47630\, United States
CATEGORIES:Training
ATTACH;FMTTYPE=image/jpeg:https://proeliatorllc.com/wp-content/uploads/2022/10/WHSDF_Proeliator_Intermediate_SOURCE.jpg
END:VEVENT
BEGIN:VEVENT
DTSTART;TZID=America/Chicago:20230515T180000
DTEND;TZID=America/Chicago:20230515T210000
DTSTAMP:20260425T055620
CREATED:20230305T203037Z
LAST-MODIFIED:20230305T214823Z
UID:7441-1684173600-1684184400@proeliatorllc.com
SUMMARY:Women's Handgun & Self Defense 1 - Basic
DESCRIPTION:
URL:https://proeliatorllc.com/event/womens-handgun-self-defense-1-basic-3
LOCATION:Red Brush Rifle Range\, 3299 West Eble Road\, Newburgh\, IN\, 47630\, United States
CATEGORIES:Training
ATTACH;FMTTYPE=image/jpeg:https://proeliatorllc.com/wp-content/uploads/2022/10/WHSDF_Proeliator_Basic_SOURCE.jpg
END:VEVENT
BEGIN:VEVENT
DTSTART;TZID=America/Chicago:20230506T090000
DTEND;TZID=America/Chicago:20230506T180000
DTSTAMP:20260425T055620
CREATED:20230305T203036Z
LAST-MODIFIED:20230305T214822Z
UID:7440-1683363600-1683396000@proeliatorllc.com
SUMMARY:Concealed Carry & Home Defense Fundamentals
DESCRIPTION:
URL:https://proeliatorllc.com/event/concealed-carry-home-defense-fundamentals-4
LOCATION:Red Brush Rifle Range\, 3299 West Eble Road\, Newburgh\, IN\, 47630\, United States
CATEGORIES:Training
ATTACH;FMTTYPE=image/jpeg:https://proeliatorllc.com/wp-content/uploads/2022/06/USCCA_CCHDF_Featured.jpg
END:VEVENT
BEGIN:VEVENT
DTSTART;TZID=America/Chicago:20230502T170000
DTEND;TZID=America/Chicago:20230502T210000
DTSTAMP:20260425T055620
CREATED:20230305T203036Z
LAST-MODIFIED:20230305T214822Z
UID:7439-1683046800-1683061200@proeliatorllc.com
SUMMARY:Emergency First Aid Fundamentals
DESCRIPTION:
URL:https://proeliatorllc.com/event/emergency-first-aid-fundamentals-3
LOCATION:Red Brush Rifle Range\, 3299 West Eble Road\, Newburgh\, IN\, 47630\, United States
CATEGORIES:Training
ATTACH;FMTTYPE=image/jpeg:https://proeliatorllc.com/wp-content/uploads/2022/10/EFAF_Proeliator_SOURCE_1824x1026.jpg
END:VEVENT
BEGIN:VEVENT
DTSTART;TZID=America/Chicago:20230430T130000
DTEND;TZID=America/Chicago:20230430T180000
DTSTAMP:20260425T055620
CREATED:20230305T203022Z
LAST-MODIFIED:20230305T214623Z
UID:7438-1682859600-1682877600@proeliatorllc.com
SUMMARY:Countering the Mass Shooter Threat
DESCRIPTION:
URL:https://proeliatorllc.com/event/countering-the-mass-shooter-threat-2
LOCATION:Red Brush Rifle Range\, 3299 West Eble Road\, Newburgh\, IN\, 47630\, United States
CATEGORIES:Training
ATTACH;FMTTYPE=image/jpeg:https://proeliatorllc.com/wp-content/uploads/2022/06/USCCA_CTMST_Featured.jpg
END:VEVENT
BEGIN:VEVENT
DTSTART;TZID=America/Chicago:20230422T090000
DTEND;TZID=America/Chicago:20230422T210000
DTSTAMP:20260425T055620
CREATED:20230305T203022Z
LAST-MODIFIED:20230305T214623Z
UID:7437-1682154000-1682197200@proeliatorllc.com
SUMMARY:Basics of Shotgun Shooting
DESCRIPTION:
URL:https://proeliatorllc.com/event/basics-of-shotgun-shooting
LOCATION:Red Brush Rifle Range\, 3299 West Eble Road\, Newburgh\, IN\, 47630\, United States
CATEGORIES:Training
ATTACH;FMTTYPE=image/png:https://proeliatorllc.com/wp-content/uploads/2022/06/NRA_Basic_Shotgun_Featured.png
END:VEVENT
BEGIN:VEVENT
DTSTART;TZID=America/Chicago:20230421T180000
DTEND;TZID=America/Chicago:20230421T210000
DTSTAMP:20260425T055620
CREATED:20230305T203021Z
LAST-MODIFIED:20230305T214622Z
UID:7436-1682100000-1682110800@proeliatorllc.com
SUMMARY:Women's Handgun & Self Defense 3 - Defensive Pistol
DESCRIPTION:
URL:https://proeliatorllc.com/event/womens-handgun-self-defense-3-defensive-pistol-2
LOCATION:Red Brush Rifle Range\, 3299 West Eble Road\, Newburgh\, IN\, 47630\, United States
CATEGORIES:Training
ATTACH;FMTTYPE=image/jpeg:https://proeliatorllc.com/wp-content/uploads/2022/10/WHSDF_Proeliator_DefensiveShooting_SOURCE.jpg
END:VEVENT
BEGIN:VEVENT
DTSTART;TZID=America/Chicago:20230420T180000
DTEND;TZID=America/Chicago:20230420T210000
DTSTAMP:20260425T055620
CREATED:20230305T203021Z
LAST-MODIFIED:20230305T214621Z
UID:7435-1682013600-1682024400@proeliatorllc.com
SUMMARY:Women's Handgun & Self Defense 2 - Intermediate
DESCRIPTION:
URL:https://proeliatorllc.com/event/womens-handgun-self-defense-2-intermediate-2
LOCATION:Red Brush Rifle Range\, 3299 West Eble Road\, Newburgh\, IN\, 47630\, United States
CATEGORIES:Training
ATTACH;FMTTYPE=image/jpeg:https://proeliatorllc.com/wp-content/uploads/2022/10/WHSDF_Proeliator_Intermediate_SOURCE.jpg
END:VEVENT
BEGIN:VEVENT
DTSTART;TZID=America/Chicago:20230419T180000
DTEND;TZID=America/Chicago:20230419T210000
DTSTAMP:20260425T055620
CREATED:20230305T203021Z
LAST-MODIFIED:20230305T214621Z
UID:7434-1681927200-1681938000@proeliatorllc.com
SUMMARY:Women's Handgun & Self Defense 1 - Basic
DESCRIPTION:
URL:https://proeliatorllc.com/event/womens-handgun-self-defense-1-basic-2
LOCATION:Red Brush Rifle Range\, 3299 West Eble Road\, Newburgh\, IN\, 47630\, United States
CATEGORIES:Training
ATTACH;FMTTYPE=image/jpeg:https://proeliatorllc.com/wp-content/uploads/2022/10/WHSDF_Proeliator_Basic_SOURCE.jpg
END:VEVENT
END:VCALENDAR