BEGIN:VCALENDAR
VERSION:2.0
PRODID:-//Proeliator LLC - ECPv6.15.20//NONSGML v1.0//EN
CALSCALE:GREGORIAN
METHOD:PUBLISH
X-ORIGINAL-URL:https://proeliatorllc.com
X-WR-CALDESC:Events for Proeliator LLC
REFRESH-INTERVAL;VALUE=DURATION:PT1H
X-Robots-Tag:noindex
X-PUBLISHED-TTL:PT1H
BEGIN:VTIMEZONE
TZID:America/Chicago
BEGIN:DAYLIGHT
TZOFFSETFROM:-0600
TZOFFSETTO:-0500
TZNAME:CDT
DTSTART:20220313T080000
END:DAYLIGHT
BEGIN:STANDARD
TZOFFSETFROM:-0500
TZOFFSETTO:-0600
TZNAME:CST
DTSTART:20221106T070000
END:STANDARD
BEGIN:DAYLIGHT
TZOFFSETFROM:-0600
TZOFFSETTO:-0500
TZNAME:CDT
DTSTART:20230312T080000
END:DAYLIGHT
BEGIN:STANDARD
TZOFFSETFROM:-0500
TZOFFSETTO:-0600
TZNAME:CST
DTSTART:20231105T070000
END:STANDARD
BEGIN:DAYLIGHT
TZOFFSETFROM:-0600
TZOFFSETTO:-0500
TZNAME:CDT
DTSTART:20240310T080000
END:DAYLIGHT
BEGIN:STANDARD
TZOFFSETFROM:-0500
TZOFFSETTO:-0600
TZNAME:CST
DTSTART:20241103T070000
END:STANDARD
END:VTIMEZONE
BEGIN:VEVENT
DTSTART;TZID=America/Chicago:20230528T130000
DTEND;TZID=America/Chicago:20230528T180000
DTSTAMP:20260423T084657
CREATED:20230305T203142Z
LAST-MODIFIED:20230305T215004Z
UID:7445-1685278800-1685296800@proeliatorllc.com
SUMMARY:Countering the Mass Shooter Threat
DESCRIPTION:
URL:https://proeliatorllc.com/event/countering-the-mass-shooter-threat-3
LOCATION:Red Brush Rifle Range\, 3299 West Eble Road\, Newburgh\, IN\, 47630\, United States
CATEGORIES:Training
ATTACH;FMTTYPE=image/jpeg:https://proeliatorllc.com/wp-content/uploads/2022/06/USCCA_CTMST_Featured.jpg
END:VEVENT
BEGIN:VEVENT
DTSTART;TZID=America/Chicago:20230527T090000
DTEND;TZID=America/Chicago:20230527T180000
DTSTAMP:20260423T084657
CREATED:20230305T203142Z
LAST-MODIFIED:20230305T215003Z
UID:7444-1685178000-1685210400@proeliatorllc.com
SUMMARY:Basics of Pistol Shooting
DESCRIPTION:
URL:https://proeliatorllc.com/event/basics-of-pistol-shooting
LOCATION:Red Brush Rifle Range\, 3299 West Eble Road\, Newburgh\, IN\, 47630\, United States
CATEGORIES:Training
ATTACH;FMTTYPE=image/jpeg:https://proeliatorllc.com/wp-content/uploads/2022/06/NRA_Basic_Pistol_Featured.jpg
END:VEVENT
BEGIN:VEVENT
DTSTART;TZID=America/Chicago:20230519T180000
DTEND;TZID=America/Chicago:20230519T210000
DTSTAMP:20260423T084657
CREATED:20230305T203037Z
LAST-MODIFIED:20230305T214824Z
UID:7443-1684519200-1684530000@proeliatorllc.com
SUMMARY:Women's Handgun & Self Defense 3 - Defensive Pistol
DESCRIPTION:
URL:https://proeliatorllc.com/event/womens-handgun-self-defense-3-defensive-pistol-3
LOCATION:Red Brush Rifle Range\, 3299 West Eble Road\, Newburgh\, IN\, 47630\, United States
CATEGORIES:Training
ATTACH;FMTTYPE=image/jpeg:https://proeliatorllc.com/wp-content/uploads/2022/10/WHSDF_Proeliator_DefensiveShooting_SOURCE.jpg
END:VEVENT
BEGIN:VEVENT
DTSTART;TZID=America/Chicago:20230517T180000
DTEND;TZID=America/Chicago:20230517T210000
DTSTAMP:20260423T084657
CREATED:20230305T203037Z
LAST-MODIFIED:20230305T214824Z
UID:7442-1684346400-1684357200@proeliatorllc.com
SUMMARY:Women's Handgun & Self Defense 2 - Intermediate
DESCRIPTION:
URL:https://proeliatorllc.com/event/womens-handgun-self-defense-2-intermediate-3
LOCATION:Red Brush Rifle Range\, 3299 West Eble Road\, Newburgh\, IN\, 47630\, United States
CATEGORIES:Training
ATTACH;FMTTYPE=image/jpeg:https://proeliatorllc.com/wp-content/uploads/2022/10/WHSDF_Proeliator_Intermediate_SOURCE.jpg
END:VEVENT
BEGIN:VEVENT
DTSTART;TZID=America/Chicago:20230515T180000
DTEND;TZID=America/Chicago:20230515T210000
DTSTAMP:20260423T084657
CREATED:20230305T203037Z
LAST-MODIFIED:20230305T214823Z
UID:7441-1684173600-1684184400@proeliatorllc.com
SUMMARY:Women's Handgun & Self Defense 1 - Basic
DESCRIPTION:
URL:https://proeliatorllc.com/event/womens-handgun-self-defense-1-basic-3
LOCATION:Red Brush Rifle Range\, 3299 West Eble Road\, Newburgh\, IN\, 47630\, United States
CATEGORIES:Training
ATTACH;FMTTYPE=image/jpeg:https://proeliatorllc.com/wp-content/uploads/2022/10/WHSDF_Proeliator_Basic_SOURCE.jpg
END:VEVENT
BEGIN:VEVENT
DTSTART;TZID=America/Chicago:20230513T080000
DTEND;TZID=America/Chicago:20230513T120000
DTSTAMP:20260423T084657
CREATED:20230304T080416Z
LAST-MODIFIED:20230306T011952Z
UID:7374-1683964800-1683979200@proeliatorllc.com
SUMMARY:Range Maintenance
DESCRIPTION:Note:  If you are a member of Red Brush Rifle Range\, your assistance is needed and this event will count as a workday.
URL:https://proeliatorllc.com/event/range-maintenance-5
LOCATION:Red Brush Rifle Range\, 3299 West Eble Road\, Newburgh\, IN\, 47630\, United States
CATEGORIES:Service
ATTACH;FMTTYPE=image/jpeg:https://proeliatorllc.com/wp-content/uploads/2023/03/RedBrush_RangeMaintenance.jpg
ORGANIZER;CN="Jeff Webber (Grounds Chairman)":MAILTO:drslayer35@gmail.com
END:VEVENT
BEGIN:VEVENT
DTSTART;TZID=America/Chicago:20230506T090000
DTEND;TZID=America/Chicago:20230506T180000
DTSTAMP:20260423T084657
CREATED:20230305T203036Z
LAST-MODIFIED:20230305T214822Z
UID:7440-1683363600-1683396000@proeliatorllc.com
SUMMARY:Concealed Carry & Home Defense Fundamentals
DESCRIPTION:
URL:https://proeliatorllc.com/event/concealed-carry-home-defense-fundamentals-4
LOCATION:Red Brush Rifle Range\, 3299 West Eble Road\, Newburgh\, IN\, 47630\, United States
CATEGORIES:Training
ATTACH;FMTTYPE=image/jpeg:https://proeliatorllc.com/wp-content/uploads/2022/06/USCCA_CCHDF_Featured.jpg
END:VEVENT
BEGIN:VEVENT
DTSTART;TZID=America/Chicago:20230502T170000
DTEND;TZID=America/Chicago:20230502T210000
DTSTAMP:20260423T084657
CREATED:20230305T203036Z
LAST-MODIFIED:20230305T214822Z
UID:7439-1683046800-1683061200@proeliatorllc.com
SUMMARY:Emergency First Aid Fundamentals
DESCRIPTION:
URL:https://proeliatorllc.com/event/emergency-first-aid-fundamentals-3
LOCATION:Red Brush Rifle Range\, 3299 West Eble Road\, Newburgh\, IN\, 47630\, United States
CATEGORIES:Training
ATTACH;FMTTYPE=image/jpeg:https://proeliatorllc.com/wp-content/uploads/2022/10/EFAF_Proeliator_SOURCE_1824x1026.jpg
END:VEVENT
BEGIN:VEVENT
DTSTART;TZID=America/Chicago:20230430T130000
DTEND;TZID=America/Chicago:20230430T180000
DTSTAMP:20260423T084657
CREATED:20230305T203022Z
LAST-MODIFIED:20230305T214623Z
UID:7438-1682859600-1682877600@proeliatorllc.com
SUMMARY:Countering the Mass Shooter Threat
DESCRIPTION:
URL:https://proeliatorllc.com/event/countering-the-mass-shooter-threat-2
LOCATION:Red Brush Rifle Range\, 3299 West Eble Road\, Newburgh\, IN\, 47630\, United States
CATEGORIES:Training
ATTACH;FMTTYPE=image/jpeg:https://proeliatorllc.com/wp-content/uploads/2022/06/USCCA_CTMST_Featured.jpg
END:VEVENT
BEGIN:VEVENT
DTSTART;TZID=America/Chicago:20230422T090000
DTEND;TZID=America/Chicago:20230422T210000
DTSTAMP:20260423T084657
CREATED:20230305T203022Z
LAST-MODIFIED:20230305T214623Z
UID:7437-1682154000-1682197200@proeliatorllc.com
SUMMARY:Basics of Shotgun Shooting
DESCRIPTION:
URL:https://proeliatorllc.com/event/basics-of-shotgun-shooting
LOCATION:Red Brush Rifle Range\, 3299 West Eble Road\, Newburgh\, IN\, 47630\, United States
CATEGORIES:Training
ATTACH;FMTTYPE=image/png:https://proeliatorllc.com/wp-content/uploads/2022/06/NRA_Basic_Shotgun_Featured.png
END:VEVENT
BEGIN:VEVENT
DTSTART;TZID=America/Chicago:20230421T180000
DTEND;TZID=America/Chicago:20230421T210000
DTSTAMP:20260423T084657
CREATED:20230305T203021Z
LAST-MODIFIED:20230305T214622Z
UID:7436-1682100000-1682110800@proeliatorllc.com
SUMMARY:Women's Handgun & Self Defense 3 - Defensive Pistol
DESCRIPTION:
URL:https://proeliatorllc.com/event/womens-handgun-self-defense-3-defensive-pistol-2
LOCATION:Red Brush Rifle Range\, 3299 West Eble Road\, Newburgh\, IN\, 47630\, United States
CATEGORIES:Training
ATTACH;FMTTYPE=image/jpeg:https://proeliatorllc.com/wp-content/uploads/2022/10/WHSDF_Proeliator_DefensiveShooting_SOURCE.jpg
END:VEVENT
BEGIN:VEVENT
DTSTART;TZID=America/Chicago:20230420T180000
DTEND;TZID=America/Chicago:20230420T210000
DTSTAMP:20260423T084657
CREATED:20230305T203021Z
LAST-MODIFIED:20230305T214621Z
UID:7435-1682013600-1682024400@proeliatorllc.com
SUMMARY:Women's Handgun & Self Defense 2 - Intermediate
DESCRIPTION:
URL:https://proeliatorllc.com/event/womens-handgun-self-defense-2-intermediate-2
LOCATION:Red Brush Rifle Range\, 3299 West Eble Road\, Newburgh\, IN\, 47630\, United States
CATEGORIES:Training
ATTACH;FMTTYPE=image/jpeg:https://proeliatorllc.com/wp-content/uploads/2022/10/WHSDF_Proeliator_Intermediate_SOURCE.jpg
END:VEVENT
BEGIN:VEVENT
DTSTART;TZID=America/Chicago:20230419T180000
DTEND;TZID=America/Chicago:20230419T210000
DTSTAMP:20260423T084657
CREATED:20230305T203021Z
LAST-MODIFIED:20230305T214621Z
UID:7434-1681927200-1681938000@proeliatorllc.com
SUMMARY:Women's Handgun & Self Defense 1 - Basic
DESCRIPTION:
URL:https://proeliatorllc.com/event/womens-handgun-self-defense-1-basic-2
LOCATION:Red Brush Rifle Range\, 3299 West Eble Road\, Newburgh\, IN\, 47630\, United States
CATEGORIES:Training
ATTACH;FMTTYPE=image/jpeg:https://proeliatorllc.com/wp-content/uploads/2022/10/WHSDF_Proeliator_Basic_SOURCE.jpg
END:VEVENT
BEGIN:VEVENT
DTSTART;TZID=America/Chicago:20230415T090000
DTEND;TZID=America/Chicago:20230415T180000
DTSTAMP:20260423T084657
CREATED:20230305T203006Z
LAST-MODIFIED:20230305T214607Z
UID:7433-1681549200-1681581600@proeliatorllc.com
SUMMARY:Concealed Carry & Home Defense Fundamentals
DESCRIPTION:
URL:https://proeliatorllc.com/event/concealed-carry-home-defense-fundamentals-3
LOCATION:Red Brush Rifle Range\, 3299 West Eble Road\, Newburgh\, IN\, 47630\, United States
CATEGORIES:Training
ATTACH;FMTTYPE=image/jpeg:https://proeliatorllc.com/wp-content/uploads/2022/06/USCCA_CCHDF_Featured.jpg
END:VEVENT
BEGIN:VEVENT
DTSTART;TZID=America/Chicago:20230408T080000
DTEND;TZID=America/Chicago:20230408T120000
DTSTAMP:20260423T084657
CREATED:20230304T074228Z
LAST-MODIFIED:20230306T012022Z
UID:7363-1680940800-1680955200@proeliatorllc.com
SUMMARY:Range Maintenance
DESCRIPTION:Note:  If you are a member of Red Brush Rifle Range\, your assistance is needed and this event will count as a workday.
URL:https://proeliatorllc.com/event/range-maintenance-4
LOCATION:Red Brush Rifle Range\, 3299 West Eble Road\, Newburgh\, IN\, 47630\, United States
CATEGORIES:Service
ATTACH;FMTTYPE=image/jpeg:https://proeliatorllc.com/wp-content/uploads/2023/03/RedBrush_RangeMaintenance.jpg
ORGANIZER;CN="Jeff Webber (Grounds Chairman)":MAILTO:drslayer35@gmail.com
END:VEVENT
BEGIN:VEVENT
DTSTART;TZID=America/Chicago:20230404T170000
DTEND;TZID=America/Chicago:20230404T210000
DTSTAMP:20260423T084657
CREATED:20230305T203006Z
LAST-MODIFIED:20230305T214606Z
UID:7432-1680627600-1680642000@proeliatorllc.com
SUMMARY:Emergency First Aid Fundamentals
DESCRIPTION:
URL:https://proeliatorllc.com/event/emergency-first-aid-fundamentals-2
LOCATION:Red Brush Rifle Range\, 3299 West Eble Road\, Newburgh\, IN\, 47630\, United States
CATEGORIES:Training
ATTACH;FMTTYPE=image/jpeg:https://proeliatorllc.com/wp-content/uploads/2022/10/WHSDF_Proeliator_DefensiveShooting_SOURCE.jpg
END:VEVENT
BEGIN:VEVENT
DTSTART;TZID=America/Chicago:20230325T090000
DTEND;TZID=America/Chicago:20230325T180000
DTSTAMP:20260423T084657
CREATED:20230305T203006Z
LAST-MODIFIED:20230305T214606Z
UID:7431-1679734800-1679767200@proeliatorllc.com
SUMMARY:Basics of Rifle Shooting
DESCRIPTION:
URL:https://proeliatorllc.com/event/basics-of-rifle-shooting
LOCATION:Proeliator LLC\, 5233 Sleepy Hollow Rd\, Newburgh\, IN\, 47630-2055\, United States
CATEGORIES:Training
ATTACH;FMTTYPE=image/jpeg:https://proeliatorllc.com/wp-content/uploads/2022/06/NRA_Basic_Rifle_Featured.jpg
END:VEVENT
BEGIN:VEVENT
DTSTART;TZID=America/Chicago:20230324T180000
DTEND;TZID=America/Chicago:20230324T210000
DTSTAMP:20260423T084657
CREATED:20230305T203005Z
LAST-MODIFIED:20230305T214605Z
UID:7430-1679680800-1679691600@proeliatorllc.com
SUMMARY:Women's Handgun & Self Defense 3 - Defensive Pistol
DESCRIPTION:
URL:https://proeliatorllc.com/event/womens-handgun-self-defense-3-defensive-pistol
LOCATION:Red Brush Rifle Range\, 3299 West Eble Road\, Newburgh\, IN\, 47630\, United States
CATEGORIES:Training
ATTACH;FMTTYPE=image/jpeg:https://proeliatorllc.com/wp-content/uploads/2022/10/WHSDF_Proeliator_DefensiveShooting_SOURCE.jpg
END:VEVENT
BEGIN:VEVENT
DTSTART;TZID=America/Chicago:20230322T180000
DTEND;TZID=America/Chicago:20230322T210000
DTSTAMP:20260423T084657
CREATED:20230305T203005Z
LAST-MODIFIED:20230305T214604Z
UID:7429-1679508000-1679518800@proeliatorllc.com
SUMMARY:Women's Handgun & Self Defense 2 - Intermediate
DESCRIPTION:
URL:https://proeliatorllc.com/event/womens-handgun-self-defense-2-intermediate
LOCATION:Red Brush Rifle Range\, 3299 West Eble Road\, Newburgh\, IN\, 47630\, United States
CATEGORIES:Training
ATTACH;FMTTYPE=image/jpeg:https://proeliatorllc.com/wp-content/uploads/2022/10/WHSDF_Proeliator_Intermediate_SOURCE.jpg
END:VEVENT
BEGIN:VEVENT
DTSTART;TZID=America/Chicago:20230320T180000
DTEND;TZID=America/Chicago:20230320T210000
DTSTAMP:20260423T084657
CREATED:20230305T203000Z
LAST-MODIFIED:20230305T214600Z
UID:7428-1679335200-1679346000@proeliatorllc.com
SUMMARY:Women's Handgun & Self Defense 1 - Basic
DESCRIPTION:
URL:https://proeliatorllc.com/event/womens-handgun-self-defense-1-basic
LOCATION:Red Brush Rifle Range\, 3299 West Eble Road\, Newburgh\, IN\, 47630\, United States
CATEGORIES:Training
ATTACH;FMTTYPE=image/jpeg:https://proeliatorllc.com/wp-content/uploads/2022/10/WHSDF_Proeliator_Basic_SOURCE.jpg
END:VEVENT
BEGIN:VEVENT
DTSTART;TZID=America/Chicago:20230319T130000
DTEND;TZID=America/Chicago:20230319T180000
DTSTAMP:20260423T084657
CREATED:20230305T203000Z
LAST-MODIFIED:20230305T214559Z
UID:7427-1679230800-1679248800@proeliatorllc.com
SUMMARY:Countering the Mass Shooter Threat
DESCRIPTION:
URL:https://proeliatorllc.com/event/countering-the-mass-shooter-threat
LOCATION:Red Brush Rifle Range\, 3299 West Eble Road\, Newburgh\, IN\, 47630\, United States
CATEGORIES:Training
ATTACH;FMTTYPE=image/jpeg:https://proeliatorllc.com/wp-content/uploads/2022/06/USCCA_CTMST_Featured.jpg
END:VEVENT
BEGIN:VEVENT
DTSTART;TZID=America/Chicago:20230318T090000
DTEND;TZID=America/Chicago:20230318T180000
DTSTAMP:20260423T084657
CREATED:20230305T202959Z
LAST-MODIFIED:20230305T214558Z
UID:7426-1679130000-1679162400@proeliatorllc.com
SUMMARY:Concealed Carry & Home Defense Fundamentals
DESCRIPTION:
URL:https://proeliatorllc.com/event/concealed-carry-home-defense-fundamentals-2
LOCATION:Red Brush Rifle Range\, 3299 West Eble Road\, Newburgh\, IN\, 47630\, United States
CATEGORIES:Training
ATTACH;FMTTYPE=image/jpeg:https://proeliatorllc.com/wp-content/uploads/2022/06/USCCA_CCHDF_Featured.jpg
END:VEVENT
BEGIN:VEVENT
DTSTART;TZID=America/Chicago:20230311T140000
DTEND;TZID=America/Chicago:20230311T220000
DTSTAMP:20260423T084657
CREATED:20230305T202959Z
LAST-MODIFIED:20230305T214558Z
UID:7425-1678543200-1678572000@proeliatorllc.com
SUMMARY:Concealed Carry & Home Defense Fundamentals
DESCRIPTION:
URL:https://proeliatorllc.com/event/concealed-carry-home-defense-fundamentals
LOCATION:Red Brush Rifle Range\, 3299 West Eble Road\, Newburgh\, IN\, 47630\, United States
CATEGORIES:Training
ATTACH;FMTTYPE=image/jpeg:https://proeliatorllc.com/wp-content/uploads/2022/06/USCCA_CCHDF_Featured.jpg
END:VEVENT
BEGIN:VEVENT
DTSTART;TZID=America/Chicago:20230311T080000
DTEND;TZID=America/Chicago:20230311T120000
DTSTAMP:20260423T084657
CREATED:20230304T074119Z
LAST-MODIFIED:20230306T012035Z
UID:7358-1678521600-1678536000@proeliatorllc.com
SUMMARY:Range Maintenance
DESCRIPTION:Note:  If you are a member of Red Brush Rifle Range\, your assistance is needed and this event will count as a workday.
URL:https://proeliatorllc.com/event/range-maintenance-3
LOCATION:Red Brush Rifle Range\, 3299 West Eble Road\, Newburgh\, IN\, 47630\, United States
CATEGORIES:Service
ATTACH;FMTTYPE=image/jpeg:https://proeliatorllc.com/wp-content/uploads/2023/03/RedBrush_RangeMaintenance.jpg
ORGANIZER;CN="Jeff Webber (Grounds Chairman)":MAILTO:drslayer35@gmail.com
END:VEVENT
BEGIN:VEVENT
DTSTART;TZID=America/Chicago:20230307T170000
DTEND;TZID=America/Chicago:20230307T210000
DTSTAMP:20260423T084657
CREATED:20230305T202958Z
LAST-MODIFIED:20230305T214556Z
UID:7424-1678208400-1678222800@proeliatorllc.com
SUMMARY:Emergency First Aid Fundamentals
DESCRIPTION:
URL:https://proeliatorllc.com/event/emergency-first-aid-fundamentals
LOCATION:Proeliator LLC\, 5233 Sleepy Hollow Rd\, Newburgh\, IN\, 47630-2055\, United States
CATEGORIES:Training
ATTACH;FMTTYPE=image/jpeg:https://proeliatorllc.com/wp-content/uploads/2022/10/EFAF_Proeliator_SOURCE_1824x1026.jpg
END:VEVENT
END:VCALENDAR